BEGIN:VCALENDAR
VERSION:2.0
PRODID:-//Albany New York Nepalese Society - ECPv6.15.20//NONSGML v1.0//EN
CALSCALE:GREGORIAN
METHOD:PUBLISH
X-WR-CALNAME:Albany New York Nepalese Society
X-ORIGINAL-URL:https://www.albanynepalese.org
X-WR-CALDESC:Events for Albany New York Nepalese Society
REFRESH-INTERVAL;VALUE=DURATION:PT1H
X-Robots-Tag:noindex
X-PUBLISHED-TTL:PT1H
BEGIN:VTIMEZONE
TZID:America/New_York
BEGIN:DAYLIGHT
TZOFFSETFROM:-0500
TZOFFSETTO:-0400
TZNAME:EDT
DTSTART:20210314T070000
END:DAYLIGHT
BEGIN:STANDARD
TZOFFSETFROM:-0400
TZOFFSETTO:-0500
TZNAME:EST
DTSTART:20211107T060000
END:STANDARD
BEGIN:DAYLIGHT
TZOFFSETFROM:-0500
TZOFFSETTO:-0400
TZNAME:EDT
DTSTART:20220313T070000
END:DAYLIGHT
BEGIN:STANDARD
TZOFFSETFROM:-0400
TZOFFSETTO:-0500
TZNAME:EST
DTSTART:20221106T060000
END:STANDARD
BEGIN:DAYLIGHT
TZOFFSETFROM:-0500
TZOFFSETTO:-0400
TZNAME:EDT
DTSTART:20230312T070000
END:DAYLIGHT
BEGIN:STANDARD
TZOFFSETFROM:-0400
TZOFFSETTO:-0500
TZNAME:EST
DTSTART:20231105T060000
END:STANDARD
BEGIN:DAYLIGHT
TZOFFSETFROM:-0500
TZOFFSETTO:-0400
TZNAME:EDT
DTSTART:20240310T070000
END:DAYLIGHT
BEGIN:STANDARD
TZOFFSETFROM:-0400
TZOFFSETTO:-0500
TZNAME:EST
DTSTART:20241103T060000
END:STANDARD
END:VTIMEZONE
BEGIN:VEVENT
DTSTART;TZID=America/New_York:20231105T113000
DTEND;TZID=America/New_York:20231105T170000
DTSTAMP:20260423T160613
CREATED:20230913T124221Z
LAST-MODIFIED:20230913T124221Z
UID:4551-1699183800-1699203600@www.albanynepalese.org
SUMMARY:Festival of Nations 2023
DESCRIPTION:ANNS is planning to participate in the 52nd annual Festival of Nations 2023 on Sunday 5th November 2023 at the Empire State Plaza-Convention Center. This event is filled with arts and crafts from various member nations from different parts of the globe alongside ethnic food and delicacy as well as music and dance. See you all there! \nShare this:Tweet\n				Print (Opens in new window)\n				Print\n			\n				Email a link to a friend (Opens in new window)\n				Email\n			\n				Share on Reddit (Opens in new window)\n				Reddit
URL:https://www.albanynepalese.org/event/festival-of-nations-2023/
LOCATION:Empire State Plaza\, Empire State Plaza Concourse Level\, albany\, NY\, 12242\, United States
END:VEVENT
BEGIN:VEVENT
DTSTART;TZID=America/New_York:20231021T170000
DTEND;TZID=America/New_York:20231021T220000
DTSTAMP:20260423T160613
CREATED:20230612T190354Z
LAST-MODIFIED:20230612T190354Z
UID:4498-1697907600-1697925600@www.albanynepalese.org
SUMMARY:Albany New York Nepalese society Dashain 2080 Celebration
DESCRIPTION:Albany New York Nepalese society hosted Dashain Celebration \nEvent Details:\nDate: Saturday\, October 21\, 2023\nTime: 5:00 PM – 10:00 PM \nVenue:\nLishakill Middle School\n68 Waterman Ave\, Albany\, NY 12205 \nAn updated information with more details and information will be communicated as soon as we have finalized all the details. \nShare this:Tweet\n				Print (Opens in new window)\n				Print\n			\n				Email a link to a friend (Opens in new window)\n				Email\n			\n				Share on Reddit (Opens in new window)\n				Reddit
URL:https://www.albanynepalese.org/event/albany-new-york-nepalese-society-dashain-2080-celebration/
LOCATION:Lishakill Middle School\, 68 Waterman Ave\, Albany\, 12205
ATTACH;FMTTYPE=image/jpeg:https://www.albanynepalese.org/wp-content/uploads/2017/05/Dashain-Tika-Time-2072-Dashain-Best-Tika-Timing.jpg
END:VEVENT
BEGIN:VEVENT
DTSTART;TZID=America/New_York:20230513T150000
DTEND;TZID=America/New_York:20230513T170000
DTSTAMP:20260423T160613
CREATED:20230409T000946Z
LAST-MODIFIED:20230409T001809Z
UID:4458-1683990000-1683997200@www.albanynepalese.org
SUMMARY:ANNS Board Meeting
DESCRIPTION:Next Albany New York Nepalese Society Board meeting is scheduled for Saturday May 13th\,  2023 starting at 3 PM.  \nThis is the first board meeting with newly appointed executive team.  \nDetails of Up coming Board Meeting:\nSaturday – May 13th\, 2023 via zoom.\nStarts at 3:00 PM \nThis will be a Zoom meeting\, \nInformation pertaining to the meeting will be communicated along with the Zoom link\, once available.  \nShare this:Tweet\n				Print (Opens in new window)\n				Print\n			\n				Email a link to a friend (Opens in new window)\n				Email\n			\n				Share on Reddit (Opens in new window)\n				Reddit
URL:https://www.albanynepalese.org/event/4458/
LOCATION:NY
ATTACH;FMTTYPE=image/jpeg:https://www.albanynepalese.org/wp-content/uploads/2015/09/board-meeting.jpg
END:VEVENT
BEGIN:VEVENT
DTSTART;TZID=America/New_York:20230318T184500
DTEND;TZID=America/New_York:20230318T204500
DTSTAMP:20260423T160613
CREATED:20230216T031825Z
LAST-MODIFIED:20230223T203955Z
UID:4351-1679165100-1679172300@www.albanynepalese.org
SUMMARY:General Assembly & Election (2023 - 2025)
DESCRIPTION:Albany New York Nepalese Society General Assembly & Election has been scheduled for Saturday\, March 18th 2023 from 01:00 PM to 03:00 PM. \nPer ANNS by-laws\, an election committee is being formed with election committee chair Tulasi Prasad Dhakal\, details to be confirmed and published as it becomes available. \nPlease note – Due to the ongoing COVID-19 concerns and other reasons\, this will be a Virtual event via Zoom meeting. An updated email on how to join will be communicated/published as soon as we have finalized all the details. This approach is necessary to ensure that we have a secure and successful event. \nThis event will be hosted online Via Zoom meeting  \nTopic: ANNS General Assembly & Election\nTime: Saturday\, March 18th 2023 from 01:00 PM to 03:00 PM. \nWe hope to see you (Virtually!) !! \nRegards\,\nAlbany New York Nepalese Society \nShare this:Tweet\n				Print (Opens in new window)\n				Print\n			\n				Email a link to a friend (Opens in new window)\n				Email\n			\n				Share on Reddit (Opens in new window)\n				Reddit
URL:https://www.albanynepalese.org/event/general-assembly-election-2023-2025/
LOCATION:NY
ATTACH;FMTTYPE=image/jpeg:https://www.albanynepalese.org/wp-content/uploads/2015/07/vote-e1437941099696.jpg
END:VEVENT
BEGIN:VEVENT
DTSTART;TZID=America/New_York:20230107T184500
DTEND;TZID=America/New_York:20230107T204500
DTSTAMP:20260423T160613
CREATED:20221211T220404Z
LAST-MODIFIED:20221211T222553Z
UID:4346-1673117100-1673124300@www.albanynepalese.org
SUMMARY:ANNS Board Meeting
DESCRIPTION:Next Albany New York Nepalese Society Board meeting is scheduled for Saturday\, January\, 7th starting at 1 PM. \nDetails of Up coming Board Meeting: \nVenue: to be decided\nSaturday January\, 7th  2023 .\nStarts at 1:00 PM \nThis will be a in person meeting\, \nInformation pertaining to the meeting will be communicated\, once available. \nShare this:Tweet\n				Print (Opens in new window)\n				Print\n			\n				Email a link to a friend (Opens in new window)\n				Email\n			\n				Share on Reddit (Opens in new window)\n				Reddit
URL:https://www.albanynepalese.org/event/anns-board-meeting-19/
LOCATION:NY
ATTACH;FMTTYPE=image/jpeg:https://www.albanynepalese.org/wp-content/uploads/2015/09/board-meeting.jpg
END:VEVENT
BEGIN:VEVENT
DTSTART;TZID=America/New_York:20221001T224500
DTEND;TZID=America/New_York:20221002T034500
DTSTAMP:20260423T160613
CREATED:20220910T182148Z
LAST-MODIFIED:20220921T002437Z
UID:4297-1664664300-1664682300@www.albanynepalese.org
SUMMARY:Albany New York Nepalese society Dashain 2079 Celebration
DESCRIPTION:Albany New York Nepalese society hosted Dashain Celebration \nEvent Details:\nDate: Saturday\, October 01\, 2022\nTime: 5:00 PM – 10:00 PM \nVenue:\nLishakill Middle School\n68 Waterman Ave\, Albany\, NY 12205 \nProgram Details:\n05:00 PM – 07:00 PM: Welcome and Cultural performance at the Auditorium.\n07:00 PM – Onwards : Dinner at the Cafeteria Hall \n===> Click here for RSVP <=== \nVenue Entrance Fee:\n1. ANNS Members:  $25/Per Person \n(You will be charged $35/Per Person at the door – If you didn’t RSVP) \n2. Non-members: $35/Per Person\n3. Youth 10 years to 17 years old: $15/Per Person\n4. Parents: $15/Per person (for both member and non-member parents)\n6. Kids under 10 years old: Free \nImportant RSVP Deadline!!!\n Saturday\, September 24th\, 2022 (Midnight) \nShare this:Tweet\n				Print (Opens in new window)\n				Print\n			\n				Email a link to a friend (Opens in new window)\n				Email\n			\n				Share on Reddit (Opens in new window)\n				Reddit
URL:https://www.albanynepalese.org/event/albany-new-york-nepalese-society-dashain-2079-celebration/
LOCATION:Lishakill Middle School\, 68 Waterman Ave\, Albany\, 12205
CATEGORIES:Community Events
ATTACH;FMTTYPE=image/jpeg:https://www.albanynepalese.org/wp-content/uploads/2017/05/Dashain-Tika-Time-2072-Dashain-Best-Tika-Timing.jpg
END:VEVENT
BEGIN:VEVENT
DTSTART;TZID=America/New_York:20220826T234500
DTEND;TZID=America/New_York:20220827T034500
DTSTAMP:20260423T160613
CREATED:20220807T195209Z
LAST-MODIFIED:20220807T204220Z
UID:4279-1661557500-1661571900@www.albanynepalese.org
SUMMARY:Teej Festival Celebration 2022
DESCRIPTION:This year’s Teej Dar Party will be held on August 26th Friday from 06:00 PM – 10:00 PM at the 9 Spices Indian Cuisine & Bar. \nRSVP Click Here \n  \nEvent date: Friday\, August 26\, 2022\nTime: 06 :00 PM -10:00 PM\nVenue: 9 Spices Indian Cuisine\, 1614 Central Ave\, Colonie NY 12205\nTicket/Entrance price:\nANNS Member\, Parents\, Children 10 and above – $15/Per Person\nChildren under 10 – Free\nRSVP Deadline: Saturday\, August 20\, 2022 (Midnight) \nShare this:Tweet\n				Print (Opens in new window)\n				Print\n			\n				Email a link to a friend (Opens in new window)\n				Email\n			\n				Share on Reddit (Opens in new window)\n				Reddit
URL:https://www.albanynepalese.org/event/teej-festival-celebration-2022/
LOCATION:9 Spices Indian Cuisine & Bar\, 1614 Central Ave\, colonie\, NY\, 12205\, United States
ATTACH;FMTTYPE=image/jpeg:https://www.albanynepalese.org/wp-content/uploads/2015/07/teej.jpg
END:VEVENT
BEGIN:VEVENT
DTSTART;TZID=America/New_York:20220731T154500
DTEND;TZID=America/New_York:20220731T224500
DTSTAMP:20260423T160613
CREATED:20220621T114527Z
LAST-MODIFIED:20220621T120105Z
UID:4273-1659282300-1659307500@www.albanynepalese.org
SUMMARY:ANNS Annual Summer Picnic 2022
DESCRIPTION:Albany New York Nepalese Society hosted Annual Summer Picnic!!! \nThis event is going to be on Sunday July 31\, 2022 from 10 am to 5 pm at Grafton Lake State Park. We have decided to make this an all-inclusive free of charge to all Paid ANNS members with exception to the park entrance fee. There is a Vehicle Entrance Fee of $8/Car that is due at the entrance of the park\, which is not covered. \nRSVP Click HERE \nVenue/Time:\nDate:  Sunday July 31\, 2022\nTime: 10 AM – 5PM\nVenue:  Rabbit Run Pavilion\, Grafton Lake State Park\nRSVP Due Date:  Saturday\, July 23\, 2022 \nTicket/Entrance price:\nPaid ANNS member – Free\n(Kids of valid Member free)\nParents/Guest of Member/Non member -$15.00 \nPicnic food menu: Salad\, fruits\, chicken BBQ\, sandwiches (suitable for veg and non-veg)\, beverages etc. \nEvent activities: (Note: You are all welcome to participate and initiate any of the sports activities) \nShare this:Tweet\n				Print (Opens in new window)\n				Print\n			\n				Email a link to a friend (Opens in new window)\n				Email\n			\n				Share on Reddit (Opens in new window)\n				Reddit
URL:https://www.albanynepalese.org/event/anns-annual-summer-picnic-2022/
LOCATION:Grafton Lakes State Park\, 254 Grafton Lakes State Park Way\, NY\, 12052\, United States
ATTACH;FMTTYPE=image/jpeg:https://www.albanynepalese.org/wp-content/uploads/2017/04/moreau.jpg
END:VEVENT
BEGIN:VEVENT
DTSTART;TZID=America/New_York:20220718T014500
DTEND;TZID=America/New_York:20220718T034500
DTSTAMP:20260423T160613
CREATED:20220616T000712Z
LAST-MODIFIED:20220616T000740Z
UID:4259-1658108700-1658115900@www.albanynepalese.org
SUMMARY:Albany New York Nepalese Society Board meeting
DESCRIPTION:Next Albany New York Nepalese Society Board meeting is scheduled for Sunday\, July 17th 2022 starting at 8 PM. \nDetails of Up coming Board Meeting:\nJuly 17\, Sunday 2022 through zoom.\nStarts at 8:00 PM \nThis will be a Zoom meeting\, \nInformation pertaining to the meeting will be send in email along with the Zoom link. \nShare this:Tweet\n				Print (Opens in new window)\n				Print\n			\n				Email a link to a friend (Opens in new window)\n				Email\n			\n				Share on Reddit (Opens in new window)\n				Reddit
URL:https://www.albanynepalese.org/event/albany-new-york-nepalese-society-board-meeting/
LOCATION:NY
ATTACH;FMTTYPE=image/jpeg:https://www.albanynepalese.org/wp-content/uploads/2015/09/board-meeting.jpg
END:VEVENT
BEGIN:VEVENT
DTSTART;VALUE=DATE:20220702
DTEND;VALUE=DATE:20220901
DTSTAMP:20260423T160613
CREATED:20220615T234903Z
LAST-MODIFIED:20220616T005203Z
UID:4254-1656720000-1661990399@www.albanynepalese.org
SUMMARY:Nepali language\, Culture and Arts Class - 2022
DESCRIPTION:ANNS committee is very excited to announce that the Nepali Language class for our kiddo’s is being planned for the summer of 2022. \nWe are still in an initial phase of forming the program structure and curriculum. Given the short amount of time that we are working against\, tireless efforts are being put towards establishing firm program structure and guide. We will soon send out a follow up communication along with any other pertaining instructions. \nProgram Details:\nKids (age 5 and above) – Speaking\, reading and writing – skill of kids will be measured in a scale of 0-5 (0: weak\, 5: strong) \nDates:\n– Start Date: Tentatively planned to start from 1st week of July. \nVenue:\n– Planned to be run through Zoom Video platform. \nRegistration:\nPlease contact Nepali class coordinator Dr. Lekh Nath Gautam or Any ANNS Executive Board officer near by you. You can also send email with details to annsalbany21@gmail.com \nNote: We are still looking for volunteers in all areas of this program\, from assisting as a teacher to other activities in class room. Please contact above listed program coordinators if you have further questions. \nShare this:Tweet\n				Print (Opens in new window)\n				Print\n			\n				Email a link to a friend (Opens in new window)\n				Email\n			\n				Share on Reddit (Opens in new window)\n				Reddit
URL:https://www.albanynepalese.org/event/nepali-language-culture-and-arts-class-2022/
LOCATION:NY
CATEGORIES:Community Events
ATTACH;FMTTYPE=image/jpeg:https://www.albanynepalese.org/wp-content/uploads/2022/06/Nepali-class.jpg
END:VEVENT
BEGIN:VEVENT
DTSTART;TZID=America/New_York:20220513T014500
DTEND;TZID=America/New_York:20220513T024500
DTSTAMP:20260423T160613
CREATED:20220421T203839Z
LAST-MODIFIED:20220421T204836Z
UID:4239-1652406300-1652409900@www.albanynepalese.org
SUMMARY:ANNS Board Meeting
DESCRIPTION:Next Albany New York Nepalese Society Board meeting is scheduled for Thursday\, May 12\, 2022 starting at 8 PM. \nDetails of Up coming Board Meeting:\nMay 12th\, Thursday 2022 via zoom.\nStarts at 8:00 PM \nThis will be a Zoom meeting\, \nInformation pertaining to the meeting will be communicated along with the Zoom link\, once available.  \nShare this:Tweet\n				Print (Opens in new window)\n				Print\n			\n				Email a link to a friend (Opens in new window)\n				Email\n			\n				Share on Reddit (Opens in new window)\n				Reddit
URL:https://www.albanynepalese.org/event/anns-board-meeting-18/
LOCATION:NY
ATTACH;FMTTYPE=image/jpeg:https://www.albanynepalese.org/wp-content/uploads/2015/09/board-meeting.jpg
END:VEVENT
BEGIN:VEVENT
DTSTART;TZID=America/New_York:20220410T004500
DTEND;TZID=America/New_York:20220410T034500
DTSTAMP:20260423T160613
CREATED:20220302T231139Z
LAST-MODIFIED:20220302T231910Z
UID:4233-1649551500-1649562300@www.albanynepalese.org
SUMMARY:ANNS General Assembly and Nepali New Year 2079 BS Celebration
DESCRIPTION:This year Albany New York Nepalese society is planning for a New Year’s 2079 celebration event along with the General Assembly on Saturday\, April 9th\, 2022.  \nWe kindly ask you to mark down this important day on your calendar. \nWhen: Saturday\, April 9th\, 2022\nStart Time: 7:00 PM -10:00 PM \nVenue: Via Zoom Meeting\, Updates along with agenda will be communicated/published as soon as we have finalized all the program details. \nShare this:Tweet\n				Print (Opens in new window)\n				Print\n			\n				Email a link to a friend (Opens in new window)\n				Email\n			\n				Share on Reddit (Opens in new window)\n				Reddit
URL:https://www.albanynepalese.org/event/anns-general-assembly-and-nepali-new-year-2079-bs-celebration/
LOCATION:NY
CATEGORIES:Community Events
ATTACH;FMTTYPE=image/png:https://www.albanynepalese.org/wp-content/uploads/2016/04/Hindu-Nav-Varsh-Indian-New-Year-7-e1646263089913.png
END:VEVENT
END:VCALENDAR