BEGIN:VCALENDAR
VERSION:2.0
PRODID:-//Albany New York Nepalese Society - ECPv6.15.20//NONSGML v1.0//EN
CALSCALE:GREGORIAN
METHOD:PUBLISH
X-ORIGINAL-URL:https://www.albanynepalese.org
X-WR-CALDESC:Events for Albany New York Nepalese Society
REFRESH-INTERVAL;VALUE=DURATION:PT1H
X-Robots-Tag:noindex
X-PUBLISHED-TTL:PT1H
BEGIN:VTIMEZONE
TZID:America/New_York
BEGIN:DAYLIGHT
TZOFFSETFROM:-0500
TZOFFSETTO:-0400
TZNAME:EDT
DTSTART:20210314T070000
END:DAYLIGHT
BEGIN:STANDARD
TZOFFSETFROM:-0400
TZOFFSETTO:-0500
TZNAME:EST
DTSTART:20211107T060000
END:STANDARD
BEGIN:DAYLIGHT
TZOFFSETFROM:-0500
TZOFFSETTO:-0400
TZNAME:EDT
DTSTART:20220313T070000
END:DAYLIGHT
BEGIN:STANDARD
TZOFFSETFROM:-0400
TZOFFSETTO:-0500
TZNAME:EST
DTSTART:20221106T060000
END:STANDARD
BEGIN:DAYLIGHT
TZOFFSETFROM:-0500
TZOFFSETTO:-0400
TZNAME:EDT
DTSTART:20230312T070000
END:DAYLIGHT
BEGIN:STANDARD
TZOFFSETFROM:-0400
TZOFFSETTO:-0500
TZNAME:EST
DTSTART:20231105T060000
END:STANDARD
END:VTIMEZONE
BEGIN:VEVENT
DTSTART;TZID=America/New_York:20221001T224500
DTEND;TZID=America/New_York:20221002T034500
DTSTAMP:20260423T223229
CREATED:20220910T182148Z
LAST-MODIFIED:20220921T002437Z
UID:4297-1664664300-1664682300@www.albanynepalese.org
SUMMARY:Albany New York Nepalese society Dashain 2079 Celebration
DESCRIPTION:Albany New York Nepalese society hosted Dashain Celebration \nEvent Details:\nDate: Saturday\, October 01\, 2022\nTime: 5:00 PM – 10:00 PM \nVenue:\nLishakill Middle School\n68 Waterman Ave\, Albany\, NY 12205 \nProgram Details:\n05:00 PM – 07:00 PM: Welcome and Cultural performance at the Auditorium.\n07:00 PM – Onwards : Dinner at the Cafeteria Hall \n===> Click here for RSVP <=== \nVenue Entrance Fee:\n1. ANNS Members:  $25/Per Person \n(You will be charged $35/Per Person at the door – If you didn’t RSVP) \n2. Non-members: $35/Per Person\n3. Youth 10 years to 17 years old: $15/Per Person\n4. Parents: $15/Per person (for both member and non-member parents)\n6. Kids under 10 years old: Free \nImportant RSVP Deadline!!!\n Saturday\, September 24th\, 2022 (Midnight) \nShare this:Tweet\n				Print (Opens in new window)\n				Print\n			\n				Email a link to a friend (Opens in new window)\n				Email\n			\n				Share on Reddit (Opens in new window)\n				Reddit
URL:https://www.albanynepalese.org/event/albany-new-york-nepalese-society-dashain-2079-celebration/
LOCATION:Lishakill Middle School\, 68 Waterman Ave\, Albany\, 12205
CATEGORIES:Community Events
ATTACH;FMTTYPE=image/jpeg:https://www.albanynepalese.org/wp-content/uploads/2017/05/Dashain-Tika-Time-2072-Dashain-Best-Tika-Timing.jpg
END:VEVENT
BEGIN:VEVENT
DTSTART;VALUE=DATE:20220702
DTEND;VALUE=DATE:20220901
DTSTAMP:20260423T223229
CREATED:20220615T234903Z
LAST-MODIFIED:20220616T005203Z
UID:4254-1656720000-1661990399@www.albanynepalese.org
SUMMARY:Nepali language\, Culture and Arts Class - 2022
DESCRIPTION:ANNS committee is very excited to announce that the Nepali Language class for our kiddo’s is being planned for the summer of 2022. \nWe are still in an initial phase of forming the program structure and curriculum. Given the short amount of time that we are working against\, tireless efforts are being put towards establishing firm program structure and guide. We will soon send out a follow up communication along with any other pertaining instructions. \nProgram Details:\nKids (age 5 and above) – Speaking\, reading and writing – skill of kids will be measured in a scale of 0-5 (0: weak\, 5: strong) \nDates:\n– Start Date: Tentatively planned to start from 1st week of July. \nVenue:\n– Planned to be run through Zoom Video platform. \nRegistration:\nPlease contact Nepali class coordinator Dr. Lekh Nath Gautam or Any ANNS Executive Board officer near by you. You can also send email with details to annsalbany21@gmail.com \nNote: We are still looking for volunteers in all areas of this program\, from assisting as a teacher to other activities in class room. Please contact above listed program coordinators if you have further questions. \nShare this:Tweet\n				Print (Opens in new window)\n				Print\n			\n				Email a link to a friend (Opens in new window)\n				Email\n			\n				Share on Reddit (Opens in new window)\n				Reddit
URL:https://www.albanynepalese.org/event/nepali-language-culture-and-arts-class-2022/
CATEGORIES:Community Events
ATTACH;FMTTYPE=image/jpeg:https://www.albanynepalese.org/wp-content/uploads/2022/06/Nepali-class.jpg
END:VEVENT
BEGIN:VEVENT
DTSTART;TZID=America/New_York:20220410T004500
DTEND;TZID=America/New_York:20220410T034500
DTSTAMP:20260423T223229
CREATED:20220302T231139Z
LAST-MODIFIED:20220302T231910Z
UID:4233-1649551500-1649562300@www.albanynepalese.org
SUMMARY:ANNS General Assembly and Nepali New Year 2079 BS Celebration
DESCRIPTION:This year Albany New York Nepalese society is planning for a New Year’s 2079 celebration event along with the General Assembly on Saturday\, April 9th\, 2022.  \nWe kindly ask you to mark down this important day on your calendar. \nWhen: Saturday\, April 9th\, 2022\nStart Time: 7:00 PM -10:00 PM \nVenue: Via Zoom Meeting\, Updates along with agenda will be communicated/published as soon as we have finalized all the program details. \nShare this:Tweet\n				Print (Opens in new window)\n				Print\n			\n				Email a link to a friend (Opens in new window)\n				Email\n			\n				Share on Reddit (Opens in new window)\n				Reddit
URL:https://www.albanynepalese.org/event/anns-general-assembly-and-nepali-new-year-2079-bs-celebration/
CATEGORIES:Community Events
ATTACH;FMTTYPE=image/png:https://www.albanynepalese.org/wp-content/uploads/2016/04/Hindu-Nav-Varsh-Indian-New-Year-7-e1646263089913.png
END:VEVENT
END:VCALENDAR